BEGIN:VCALENDAR
VERSION:2.0
PRODID:-//Laughlin Ranch Golf Club - ECPv6.15.20//NONSGML v1.0//EN
CALSCALE:GREGORIAN
METHOD:PUBLISH
X-ORIGINAL-URL:https://laughlinranch.com
X-WR-CALDESC:Events for Laughlin Ranch Golf Club
REFRESH-INTERVAL;VALUE=DURATION:PT1H
X-Robots-Tag:noindex
X-PUBLISHED-TTL:PT1H
BEGIN:VTIMEZONE
TZID:America/Phoenix
BEGIN:STANDARD
TZOFFSETFROM:-0700
TZOFFSETTO:-0700
TZNAME:MST
DTSTART:20250101T000000
END:STANDARD
END:VTIMEZONE
BEGIN:VEVENT
DTSTART;TZID=America/Phoenix:20260425T090000
DTEND;TZID=America/Phoenix:20260425T100000
DTSTAMP:20260425T050447
CREATED:20260331T141556Z
LAST-MODIFIED:20260331T141556Z
UID:15001701-1777107600-1777111200@laughlinranch.com
SUMMARY:Cardio HIIT Class
DESCRIPTION:Get your heart pumping with Cardio HIIT Classes at Laughlin Ranch Fitness Center\, led by Annette Wegmann. These high-intensity interval training sessions are designed to maximize results in less time by combining short bursts of powerful movement with brief recovery periods. \nPerfect for all fitness levels\, each class focuses on improving cardiovascular endurance\, boosting metabolism\, and building overall strength in a supportive group environment. \nJoin us every Saturday at 9:00 AM starting April 4\, 2026\, and take your fitness routine to the next level. \nPricing:• $15 per person\, per class• $5 per class for pass holders/members
URL:https://laughlinranch.com/event/cardio-hiit-class-april-2026/2026-04-25/
LOCATION:Laughlin Ranch Golf Club\, 1360 William Hardy Dr\, Bullhead City\, AZ\, 86429\, United States
ATTACH;FMTTYPE=image/jpeg:https://laughlinranch.com/wp-content/uploads/2026/03/2026-Laughlin-Ranch-Cardio-HIIT-Classes-e1774966386791.jpg
ORGANIZER;CN="Laughlin Ranch Golf Club":MAILTO:info@lauglinranch.com
END:VEVENT
BEGIN:VEVENT
DTSTART;TZID=America/Phoenix:20260426T090000
DTEND;TZID=America/Phoenix:20260426T150000
DTSTAMP:20260425T050447
CREATED:20260331T113246Z
LAST-MODIFIED:20260331T113246Z
UID:15001681-1777194000-1777215600@laughlinranch.com
SUMMARY:Sunday Brunch
DESCRIPTION:Start your Sunday with a delicious brunch at Laughlin Ranch on April 12\, 19\, and 26 from 9 AM to 3 PM. \nEnjoy a variety of brunch favorites\, fresh ingredients\, and tasty beverages in a welcoming atmosphere. \nGather with friends and family for a relaxing and flavorful Sunday—reserve your table today!
URL:https://laughlinranch.com/event/sunday-brunch-april-2026/2026-04-26/
LOCATION:Laughlin Ranch Golf Club\, 1360 William Hardy Dr\, Bullhead City\, AZ\, 86429\, United States
ORGANIZER;CN="Laughlin Ranch Golf Club":MAILTO:info@lauglinranch.com
END:VEVENT
BEGIN:VEVENT
DTSTART;TZID=America/Phoenix:20260427T110000
DTEND;TZID=America/Phoenix:20260427T200000
DTSTAMP:20260425T050447
CREATED:20260331T114029Z
LAST-MODIFIED:20260331T114029Z
UID:15001685-1777287600-1777320000@laughlinranch.com
SUMMARY:Slice & Sip Special All Day
DESCRIPTION:Hurry\, every Mondays of April\, delicious hot pizzas are coming out of the oven!  Enjoy your own pizza\, side salad\, choice of 16 oz draft beer\, house wine\, or fountain beverage for $19.99+. You are also invited to choose from our regular menu\, all from 11:00 AM to 8:00 PM at The Ranch Bar & Grill. 
URL:https://laughlinranch.com/event/slice-sip-special-mondays-april-2026/2026-04-27/
LOCATION:Laughlin Ranch Golf Club\, 1360 William Hardy Dr\, Bullhead City\, AZ\, 86429\, United States
ATTACH;FMTTYPE=image/jpeg:https://laughlinranch.com/wp-content/uploads/2026/01/Slice-and-Sip-Mondays-Laughlin-Ranch.jpg
ORGANIZER;CN="Laughlin Ranch Golf Club":MAILTO:info@lauglinranch.com
END:VEVENT
BEGIN:VEVENT
DTSTART;TZID=America/Phoenix:20260429T180000
DTEND;TZID=America/Phoenix:20260429T200000
DTSTAMP:20260425T050447
CREATED:20260331T132727Z
LAST-MODIFIED:20260331T132727Z
UID:15001689-1777485600-1777492800@laughlinranch.com
SUMMARY:Whiskey & Cigar Night at Back Patio
DESCRIPTION:Laughlin Ranch Golf Club invites you to Whiskey & Cigar Night at back patio\, April 15 and 29\, 6-8pm. This 21+ event offers free entry\, food and beverages\, and live music. Bring your friends and enjoy an evening of great whiskey\, cigars\, and entertainment under the night sky at the Ranch.
URL:https://laughlinranch.com/event/whiskey-cigar-night-april-2026/2026-04-29/
LOCATION:Laughlin Ranch Golf Club\, 1360 William Hardy Dr\, Bullhead City\, AZ\, 86429\, United States
ORGANIZER;CN="Laughlin Ranch Golf Club":MAILTO:info@lauglinranch.com
END:VEVENT
BEGIN:VEVENT
DTSTART;TZID=America/Phoenix:20260430T173000
DTEND;TZID=America/Phoenix:20260430T173000
DTSTAMP:20260425T050447
CREATED:20260331T135558Z
LAST-MODIFIED:20260331T135558Z
UID:15001693-1777570200-1777570200@laughlinranch.com
SUMMARY:Wine & Paint Night
DESCRIPTION:Bring out your artistic self on April 30\, 5:30pm for a calming and beautiful Wine and Paint Night at Laughlin Ranch. More details coming soon.
URL:https://laughlinranch.com/event/wine-paint-night-april-2026/
LOCATION:Laughlin Ranch Golf Club\, 1360 William Hardy Dr\, Bullhead City\, AZ\, 86429\, United States
ORGANIZER;CN="Laughlin Ranch Golf Club":MAILTO:info@lauglinranch.com
END:VEVENT
END:VCALENDAR