BEGIN:VCALENDAR
VERSION:2.0
PRODID:-//Laughlin Ranch Golf Club - ECPv6.15.20//NONSGML v1.0//EN
CALSCALE:GREGORIAN
METHOD:PUBLISH
X-ORIGINAL-URL:https://laughlinranch.com
X-WR-CALDESC:Events for Laughlin Ranch Golf Club
REFRESH-INTERVAL;VALUE=DURATION:PT1H
X-Robots-Tag:noindex
X-PUBLISHED-TTL:PT1H
BEGIN:VTIMEZONE
TZID:America/Phoenix
BEGIN:STANDARD
TZOFFSETFROM:-0700
TZOFFSETTO:-0700
TZNAME:MST
DTSTART:20230101T000000
END:STANDARD
END:VTIMEZONE
BEGIN:VEVENT
DTSTART;TZID=America/Phoenix:20241029T130000
DTEND;TZID=America/Phoenix:20241029T200000
DTSTAMP:20260425T141200
CREATED:20241004T140604Z
LAST-MODIFIED:20241004T140604Z
UID:15001068-1730206800-1730232000@laughlinranch.com
SUMMARY:Taco Tuesday
DESCRIPTION:Enjoy Taco Tuesdays at The Ranch Bar & Grill on select Tuesdays for the month of October. \nSpice up your week with Taco Tuesdays at Laughlin Ranch Golf Club! Every Tuesday\, the Ranch Bar & Grill serves up a special menu featuring a variety of delicious tacos that are perfect for a fun and flavorful meal. Whether you’re craving a classic taco with all the traditional toppings or looking to try something new\, Taco Tuesdays offer a tasty selection that will satisfy your taco cravings. \nTaco Tuesdays at Laughlin Ranch aren’t just about great food—it’s also about the experience. The Ranch Bar & Grill offers a relaxed\, scenic setting\, perfect for enjoying a laid-back meal with friends or family. After a round of golf or a day at the spa\, Taco Tuesdays are a great way to wind down and savor something delicious. \nWith its unbeatable combination of quality food\, friendly atmosphere\, and stunning views\, Taco Tuesdays have quickly become a favorite at Laughlin Ranch Golf Club. Whether you’re a local or just visiting\, be sure to stop by and enjoy this weekly event. Treat yourself to the ultimate taco experience—where great food and good vibes come together every Tuesday at Laughlin Ranch!
URL:https://laughlinranch.com/event/taco-tuesday-october-2024-2/2024-10-29/
LOCATION:Laughlin Ranch Golf Club\, 1360 William Hardy Dr\, Bullhead City\, AZ\, 86429\, United States
ORGANIZER;CN="Laughlin Ranch Golf Club":MAILTO:info@lauglinranch.com
END:VEVENT
BEGIN:VEVENT
DTSTART;TZID=America/Phoenix:20241028T171500
DTEND;TZID=America/Phoenix:20241028T171500
DTSTAMP:20260425T141200
CREATED:20240926T101549Z
LAST-MODIFIED:20240926T101614Z
UID:15001009-1730135700-1730135700@laughlinranch.com
SUMMARY:Monday Night Football
DESCRIPTION:It’s that time again! Get Ready for Monday Night Football at Laughlin Ranch Golf Club! Join us every Monday for the ultimate game night-great food\, drinks & touchdowns. Starting September 9th onwards! See you there! \nKick-off at 5:15PM for all Mondays of October.
URL:https://laughlinranch.com/event/monday-night-football-october-2024/2024-10-28/
LOCATION:Laughlin Ranch Golf Club\, 1360 William Hardy Dr\, Bullhead City\, AZ\, 86429\, United States
ORGANIZER;CN="Laughlin Ranch Golf Club":MAILTO:info@lauglinranch.com
END:VEVENT
BEGIN:VEVENT
DTSTART;TZID=America/Phoenix:20241026T160000
DTEND;TZID=America/Phoenix:20241026T210000
DTSTAMP:20260425T141200
CREATED:20240926T111600Z
LAST-MODIFIED:20240926T112238Z
UID:15000890-1729958400-1729976400@laughlinranch.com
SUMMARY:Surf N Turf Saturday
DESCRIPTION:
URL:https://laughlinranch.com/event/surf-n-turf-saturday-2-2/2024-10-26/
LOCATION:Laughlin Ranch Golf Club\, 1360 William Hardy Dr\, Bullhead City\, AZ\, 86429\, United States
ATTACH;FMTTYPE=image/jpeg:https://laughlinranch.com/wp-content/uploads/2024/05/Sur-N-Turf-Saturday.jpg
END:VEVENT
BEGIN:VEVENT
DTSTART;TZID=America/Phoenix:20241025T160000
DTEND;TZID=America/Phoenix:20241025T210000
DTSTAMP:20260425T141200
CREATED:20240926T110720Z
LAST-MODIFIED:20240926T110720Z
UID:13001441-1729872000-1729890000@laughlinranch.com
SUMMARY:Prime Rib Special
DESCRIPTION:
URL:https://laughlinranch.com/event/prime-rib-special-3/2024-10-25/
LOCATION:Laughlin Ranch Golf Club\, 1360 William Hardy Dr\, Bullhead City\, AZ\, 86429\, United States
ATTACH;FMTTYPE=image/jpeg:https://laughlinranch.com/wp-content/uploads/2024/05/Prime-Rib-Special.jpg
ORGANIZER;CN="Laughlin Ranch Golf Club":MAILTO:info@lauglinranch.com
END:VEVENT
BEGIN:VEVENT
DTSTART;VALUE=DATE:20241019
DTEND;VALUE=DATE:20241020
DTSTAMP:20260425T141200
CREATED:20240927T000937Z
LAST-MODIFIED:20240927T000937Z
UID:15001125-1729324800-1729357200@laughlinranch.com
SUMMARY:Ranch Bar & Grill Closed!
DESCRIPTION:The Ranch Bar & Grill is closed for a private event on October 5 and 19. Please check out our other amenities or come back at a later date.
URL:https://laughlinranch.com/event/ranch-bar-grill-closed-october-sched/2024-10-19/
LOCATION:Laughlin Ranch Golf Club\, 1360 William Hardy Dr\, Bullhead City\, AZ\, 86429\, United States
ORGANIZER;CN="Laughlin Ranch Golf Club":MAILTO:info@lauglinranch.com
END:VEVENT
BEGIN:VEVENT
DTSTART;TZID=America/Phoenix:20241016T180000
DTEND;TZID=America/Phoenix:20241016T200000
DTSTAMP:20260425T141200
CREATED:20240926T104737Z
LAST-MODIFIED:20241002T142754Z
UID:15001064-1729101600-1729108800@laughlinranch.com
SUMMARY:Whiskey & Cigar Night
DESCRIPTION:Whiskey & Cigar Night by the Pool\nIf you’re looking for things to do in Laughlin\, NV\, we have the perfect event for you. Get ready for an evening of sophistication and relaxation at Laughlin Ranch Golf Club’s Whiskey & Cigar Night by the Pool! This exclusive event will take place on Wednesday\, October 2nd and 16th\, 2024\, from 6:00 PM to 8:00 PM at the scenic Laughlin Ranch Pool\, located at 1360 William Hardy Dr. \nThis event is perfect for those who enjoy the finer things in life\, as you’ll have the opportunity to savor premium whiskeys and cigars while taking in the beautiful poolside ambiance. As the sun sets\, enjoy the warmth of the fire pit and unwind with a drink in hand\, all while experiencing the perfect blend of relaxation and luxury. \nSpecial guests will elevate the evening’s atmosphere with live music by Tyler Halsey and Da Kine Connection. The live performances will set the tone for a truly memorable night\, allowing you to kick back\, relax\, and enjoy every moment. \nThe event includes free entry\, making it the ideal way to spend your evening without any hassle. In addition to the live music\, there will be a selection of food and beverages available for purchase\, allowing you to pair your whiskey and cigar with a delicious meal or snack. \nThis is a 21 & over only event. Whether you’re a whiskey connoisseur\, a cigar enthusiast\, or simply looking for a great way to unwind\, Whiskey & Cigar Night By The Pool at Laughlin Ranch is not to be missed. \nMark your calendars for both dates\, grab your friends\, and come enjoy a sophisticated evening filled with good company\, great music\, and an unforgettable poolside atmosphere. See you at the Laughlin Ranch Pool for two exceptional nights this October!
URL:https://laughlinranch.com/event/whiskey-cigar-night-poolside-october/2024-10-16/
LOCATION:Laughlin Ranch Golf Club\, 1360 William Hardy Dr\, Bullhead City\, AZ\, 86429\, United States
ATTACH;FMTTYPE=image/jpeg:https://laughlinranch.com/wp-content/uploads/2024/09/Whiskey-Cigar-Night-Pool-Party-Flyer-October-2024-e1727879254708.jpg
ORGANIZER;CN="Laughlin Ranch Golf Club":MAILTO:info@lauglinranch.com
END:VEVENT
BEGIN:VEVENT
DTSTART;TZID=America/Phoenix:20241008T173000
DTEND;TZID=America/Phoenix:20241008T173000
DTSTAMP:20260425T141200
CREATED:20240926T114104Z
LAST-MODIFIED:20240926T114105Z
UID:15001111-1728408600-1728408600@laughlinranch.com
SUMMARY:Healthy Cooking Class
DESCRIPTION:Join us for our BIGGEST class of the year! Our HOLIDAY COOKING CLASS! \nJoin Health Coach Cameron\, from Life Changing Dinners for a FULL HOLIDAY SPREAD! Come enjoy some of your holiday favorites with a healthy\, nourishing twist…including a 20 lb. turkey cooked on the stovetop\, salads\, sides and healthy desserts…you DO NOT want to MISS this class!! \n  \n 
URL:https://laughlinranch.com/event/healthy-cooking-class-october-2024/
LOCATION:Laughlin Ranch Golf Club\, 1360 William Hardy Dr\, Bullhead City\, AZ\, 86429\, United States
ATTACH;FMTTYPE=image/jpeg:https://laughlinranch.com/wp-content/uploads/2024/09/Healthy-Cooking-Class-October-2024.jpg
ORGANIZER;CN="Laughlin Ranch Golf Club":MAILTO:info@lauglinranch.com
END:VEVENT
BEGIN:VEVENT
DTSTART;TZID=America/Phoenix:20240930T171500
DTEND;TZID=America/Phoenix:20240930T171500
DTSTAMP:20260425T141200
CREATED:20240830T101016Z
LAST-MODIFIED:20240830T101016Z
UID:15000948-1727716500-1727716500@laughlinranch.com
SUMMARY:Monday Night Football
DESCRIPTION:It’s that time! Get Ready for Monday Night Football again at Laughlin Ranch Golf Club! Join us every Monday for the ultimate game night-great food\, drinks & touchdowns. Starting September 9th! See you there! \nKick-off at 5:15PM.
URL:https://laughlinranch.com/event/monday-night-football-sept-30-2024/
LOCATION:Laughlin Ranch Golf Club\, 1360 William Hardy Dr\, Bullhead City\, AZ\, 86429\, United States
ORGANIZER;CN="Laughlin Ranch Golf Club":MAILTO:info@lauglinranch.com
END:VEVENT
BEGIN:VEVENT
DTSTART;TZID=America/Phoenix:20240929T080000
DTEND;TZID=America/Phoenix:20240929T080000
DTSTAMP:20260425T141200
CREATED:20240830T131155Z
LAST-MODIFIED:20240906T093257Z
UID:15000953-1727596800-1727596800@laughlinranch.com
SUMMARY:Opening Day Tourney
DESCRIPTION:We’re excited to announce that after a successful overseed\, our course will be ready to welcome you back for the highly anticipated Opening Day Golf Tournament! The greens are lush\, the fairways are perfect\, and it’s time to put your skills to the test.\nJoin us for a day of great golf\, friendly competition\, and the chance to enjoy our beautifully refreshed course. Whether you’re a seasoned pro or just here for the fun\, this tournament promises something for everyone. \nRegistration is now open! Secure your spot and be part of the action at 928-754-1243. We can’t wait to see you on the greens!
URL:https://laughlinranch.com/event/opening-day-tourney/
LOCATION:Laughlin Ranch Golf Club\, 1360 William Hardy Dr\, Bullhead City\, AZ\, 86429\, United States
ATTACH;FMTTYPE=image/jpeg:https://laughlinranch.com/wp-content/uploads/2024/08/Opening-Day-Golf-Tournament-e1725615082606.jpg
ORGANIZER;CN="Laughlin Ranch Golf Club":MAILTO:info@lauglinranch.com
END:VEVENT
BEGIN:VEVENT
DTSTART;TZID=America/Phoenix:20240924T180000
DTEND;TZID=America/Phoenix:20240924T180000
DTSTAMP:20260425T141200
CREATED:20240830T101324Z
LAST-MODIFIED:20240830T102926Z
UID:15000949-1727200800-1727200800@laughlinranch.com
SUMMARY:Wine & Paint Night
DESCRIPTION:
URL:https://laughlinranch.com/event/wine-paint-night-september/
LOCATION:Laughlin Ranch Golf Club\, 1360 William Hardy Dr\, Bullhead City\, AZ\, 86429\, United States
ATTACH;FMTTYPE=image/jpeg:https://laughlinranch.com/wp-content/uploads/2024/04/PaintNight-e1721979502358.jpeg
ORGANIZER;CN="Laughlin Ranch Golf Club":MAILTO:info@lauglinranch.com
END:VEVENT
BEGIN:VEVENT
DTSTART;TZID=America/Phoenix:20240923T171500
DTEND;TZID=America/Phoenix:20240923T171500
DTSTAMP:20260425T141200
CREATED:20240830T095730Z
LAST-MODIFIED:20240830T101107Z
UID:15000947-1727111700-1727111700@laughlinranch.com
SUMMARY:Monday Night Football
DESCRIPTION:It’s that time! Get Ready for Monday Night Football again at Laughlin Ranch Golf Club! Join us every Monday for the ultimate game night-great food\, drinks & touchdowns. Starting September 9th! See you there! \nKick-off at 5:15PM.
URL:https://laughlinranch.com/event/monday-night-football-sept-23-2024/
LOCATION:Laughlin Ranch Golf Club\, 1360 William Hardy Dr\, Bullhead City\, AZ\, 86429\, United States
ORGANIZER;CN="Laughlin Ranch Golf Club":MAILTO:info@lauglinranch.com
END:VEVENT
BEGIN:VEVENT
DTSTART;TZID=America/Phoenix:20240918T190000
DTEND;TZID=America/Phoenix:20240918T210000
DTSTAMP:20260425T141200
CREATED:20240830T104238Z
LAST-MODIFIED:20240830T104238Z
UID:15000951-1726686000-1726693200@laughlinranch.com
SUMMARY:Whiskey & Cigar Night - Pool Party
DESCRIPTION:Cigar & Whiskey Night POOLSIDE at Laughlin Ranch Golf Club! \nOrder up your favorite cocktails from the onsite bar or order food from the restaurant. Cigars available for purchase\, too.
URL:https://laughlinranch.com/event/whiskey-cigar-night-sept-18-2024/
LOCATION:Laughlin Ranch Golf Club\, 1360 William Hardy Dr\, Bullhead City\, AZ\, 86429\, United States
ORGANIZER;CN="Laughlin Ranch Golf Club":MAILTO:info@lauglinranch.com
END:VEVENT
BEGIN:VEVENT
DTSTART;TZID=America/Phoenix:20240917T130000
DTEND;TZID=America/Phoenix:20240917T190000
DTSTAMP:20260425T141200
CREATED:20240830T085600Z
LAST-MODIFIED:20240830T085600Z
UID:15000944-1726578000-1726599600@laughlinranch.com
SUMMARY:Taco Tuesday
DESCRIPTION:
URL:https://laughlinranch.com/event/taco-tuesday-september-17/
LOCATION:Laughlin Ranch Golf Club\, 1360 William Hardy Dr\, Bullhead City\, AZ\, 86429\, United States
ATTACH;FMTTYPE=image/jpeg:https://laughlinranch.com/wp-content/uploads/2024/07/Taco-Tuesday-At-Laughlin-Ranch-e1721980789282.jpg
ORGANIZER;CN="Laughlin Ranch Golf Club":MAILTO:info@lauglinranch.com
END:VEVENT
BEGIN:VEVENT
DTSTART;TZID=America/Phoenix:20240916T173000
DTEND;TZID=America/Phoenix:20240916T173000
DTSTAMP:20260425T141200
CREATED:20240905T090422Z
LAST-MODIFIED:20240910T100440Z
UID:15000954-1726507800-1726507800@laughlinranch.com
SUMMARY:Healthy Cooking Class September
DESCRIPTION:Join Health Coach Cameron\, from Life Changing Dinners for a night of delicious & healthy food! All recipes are quick and easily repeated at home in your own kitchen! Come hungry! You’ll not only leave with a full tummy\, but a full mind with lots of health and nutrition information to help you reach your health and wellness goals! \nThis month’s menu includes: \n\nTurkey Veggie Low-Carb Marinara\nWarm Greek Quinoa Salad with Lemon Tahini Dressing\nCoach Cam’s Amazing Salad\nRefreshing Fruit Salad with Coconut Whipped Cream\n\nEvery month we raffle off some great gifts at the end of class…And we want to GROW this class! Our goal is to have 25 people by September…Please invite a friend to join you for extra raffle tickets! The person that brings the most guests will receive a special gift! \n  \nScan the QR code or visit this link.
URL:https://laughlinranch.com/event/healthy-cooking-class-september/
LOCATION:Laughlin Ranch Golf Club\, 1360 William Hardy Dr\, Bullhead City\, AZ\, 86429\, United States
ATTACH;FMTTYPE=image/jpeg:https://laughlinranch.com/wp-content/uploads/2024/09/Healthy-Cooking-Class-with-Coach-Cameron.jpg
ORGANIZER;CN="Laughlin Ranch Golf Club":MAILTO:info@lauglinranch.com
END:VEVENT
BEGIN:VEVENT
DTSTART;TZID=America/Phoenix:20240916T171500
DTEND;TZID=America/Phoenix:20240916T171500
DTSTAMP:20260425T141200
CREATED:20240830T094951Z
LAST-MODIFIED:20240830T101046Z
UID:15000946-1726506900-1726506900@laughlinranch.com
SUMMARY:Monday Night Football
DESCRIPTION:It’s that time! Get Ready for Monday Night Football again at Laughlin Ranch Golf Club! Join us every Monday for the ultimate game night-great food\, drinks & touchdowns. Starting September 9th! See you there! \nKick-off at 5:15PM.
URL:https://laughlinranch.com/event/monday-night-football-sept-16-2024/
LOCATION:Laughlin Ranch Golf Club\, 1360 William Hardy Dr\, Bullhead City\, AZ\, 86429\, United States
ORGANIZER;CN="Laughlin Ranch Golf Club":MAILTO:info@lauglinranch.com
END:VEVENT
BEGIN:VEVENT
DTSTART;VALUE=DATE:20240914
DTEND;VALUE=DATE:20240915
DTSTAMP:20260425T141200
CREATED:20240830T113648Z
LAST-MODIFIED:20240902T143354Z
UID:15000952-1726272000-1726358399@laughlinranch.com
SUMMARY:Spa Sidewalk Sale
DESCRIPTION:Experience relaxation and great deals at the Laughlin Ranch Golf Club’s Spa Sidewalk Sale on September 14\, 2024! This special event offers an exclusive selection of discounted spa products\, skincare essentials\, and wellness items\, perfect for pampering yourself or finding the ideal gift.
URL:https://laughlinranch.com/event/spa-sidewalk-sale-september-2024/
LOCATION:Laughlin Ranch Golf Club\, 1360 William Hardy Dr\, Bullhead City\, AZ\, 86429\, United States
ATTACH;FMTTYPE=image/jpeg:https://laughlinranch.com/wp-content/uploads/2024/06/Spa-Sidewalk-Sale-e1751006748311.jpg
ORGANIZER;CN="Laughlin Ranch Golf Club":MAILTO:info@lauglinranch.com
END:VEVENT
BEGIN:VEVENT
DTSTART;TZID=America/Phoenix:20240909T172000
DTEND;TZID=America/Phoenix:20240909T172000
DTSTAMP:20260425T141200
CREATED:20240830T090847Z
LAST-MODIFIED:20240830T090847Z
UID:15000945-1725902400-1725902400@laughlinranch.com
SUMMARY:Monday Night Football
DESCRIPTION:It’s that time! Get Ready for Monday Night Football again at Laughlin Ranch Golf Club! Join us every Monday for the ultimate game night-great food\, drinks & touchdowns. Starting September 9th! See you there! \nKick-off at 5:20PM.
URL:https://laughlinranch.com/event/monday-night-football-sept-9-2024/
LOCATION:Laughlin Ranch Golf Club\, 1360 William Hardy Dr\, Bullhead City\, AZ\, 86429\, United States
ATTACH;FMTTYPE=image/jpeg:https://laughlinranch.com/wp-content/uploads/2024/08/September-9-Monday-Night-Football.jpg
ORGANIZER;CN="Laughlin Ranch Golf Club":MAILTO:info@lauglinranch.com
END:VEVENT
BEGIN:VEVENT
DTSTART;TZID=America/Phoenix:20240904T190000
DTEND;TZID=America/Phoenix:20240904T210000
DTSTAMP:20260425T141200
CREATED:20240830T104018Z
LAST-MODIFIED:20240830T104018Z
UID:15000950-1725476400-1725483600@laughlinranch.com
SUMMARY:Whiskey & Cigar Night - Pool Party
DESCRIPTION:Cigar & Whiskey Night POOLSIDE at Laughlin Ranch Golf Club! \nOrder up your favorite cocktails from the onsite bar or order food from the restaurant. Cigars available for purchase\, too.
URL:https://laughlinranch.com/event/whiskey-cigar-night-sept-4-2024/
LOCATION:Laughlin Ranch Golf Club\, 1360 William Hardy Dr\, Bullhead City\, AZ\, 86429\, United States
ORGANIZER;CN="Laughlin Ranch Golf Club":MAILTO:info@lauglinranch.com
END:VEVENT
BEGIN:VEVENT
DTSTART;TZID=America/Phoenix:20240903T130000
DTEND;TZID=America/Phoenix:20240903T190000
DTSTAMP:20260425T141200
CREATED:20240830T085111Z
LAST-MODIFIED:20240830T085111Z
UID:15000943-1725368400-1725390000@laughlinranch.com
SUMMARY:Taco Tuesday
DESCRIPTION:
URL:https://laughlinranch.com/event/taco-tuesday-september-3/
LOCATION:Laughlin Ranch Golf Club\, 1360 William Hardy Dr\, Bullhead City\, AZ\, 86429\, United States
ATTACH;FMTTYPE=image/jpeg:https://laughlinranch.com/wp-content/uploads/2024/07/Taco-Tuesday-At-Laughlin-Ranch-e1721980789282.jpg
ORGANIZER;CN="Laughlin Ranch Golf Club":MAILTO:info@lauglinranch.com
END:VEVENT
BEGIN:VEVENT
DTSTART;TZID=America/Phoenix:20240827T180000
DTEND;TZID=America/Phoenix:20240827T180000
DTSTAMP:20260425T141200
CREATED:20240726T074212Z
LAST-MODIFIED:20240823T080644Z
UID:15000927-1724781600-1724781600@laughlinranch.com
SUMMARY:Wine & Paint Night
DESCRIPTION:
URL:https://laughlinranch.com/event/wine-paint-night-august/
LOCATION:Laughlin Ranch Golf Club\, 1360 William Hardy Dr\, Bullhead City\, AZ\, 86429\, United States
ATTACH;FMTTYPE=image/jpeg:https://laughlinranch.com/wp-content/uploads/2024/04/PaintNight-e1721979502358.jpeg
ORGANIZER;CN="Laughlin Ranch Golf Club":MAILTO:info@lauglinranch.com
END:VEVENT
BEGIN:VEVENT
DTSTART;TZID=America/Phoenix:20240821T190000
DTEND;TZID=America/Phoenix:20240821T210000
DTSTAMP:20260425T141200
CREATED:20240726T082052Z
LAST-MODIFIED:20240726T082052Z
UID:15000931-1724266800-1724274000@laughlinranch.com
SUMMARY:Whiskey & Cigar Night
DESCRIPTION:
URL:https://laughlinranch.com/event/whiskey-cigar-night-august-21/
LOCATION:Laughlin Ranch Golf Club\, 1360 William Hardy Dr\, Bullhead City\, AZ\, 86429\, United States
ATTACH;FMTTYPE=image/png:https://laughlinranch.com/wp-content/uploads/2024/04/Whiskey-Cigar.png
END:VEVENT
BEGIN:VEVENT
DTSTART;TZID=America/Phoenix:20240821T180000
DTEND;TZID=America/Phoenix:20240821T200000
DTSTAMP:20260425T141200
CREATED:20240726T092847Z
LAST-MODIFIED:20240726T092847Z
UID:15000941-1724263200-1724270400@laughlinranch.com
SUMMARY:Pool Party
DESCRIPTION:More details soon!  \nCome join us for a pool party at Laughlin Ranch Golf Club on August 21\, 2024 from 6PM-8PM.
URL:https://laughlinranch.com/event/pool-party-august-21/
LOCATION:Laughlin Ranch Golf Club\, 1360 William Hardy Dr\, Bullhead City\, AZ\, 86429\, United States
ATTACH;FMTTYPE=image/jpeg:https://laughlinranch.com/wp-content/uploads/2024/07/Pool-Party-at-Laughlin-Ranch.jpg
END:VEVENT
BEGIN:VEVENT
DTSTART;TZID=America/Phoenix:20240820T130000
DTEND;TZID=America/Phoenix:20240820T190000
DTSTAMP:20260425T141200
CREATED:20240726T080345Z
LAST-MODIFIED:20240726T080345Z
UID:15000929-1724158800-1724180400@laughlinranch.com
SUMMARY:Taco Tuesday
DESCRIPTION:
URL:https://laughlinranch.com/event/taco-tuesday-august-20/
LOCATION:Laughlin Ranch Golf Club\, 1360 William Hardy Dr\, Bullhead City\, AZ\, 86429\, United States
ATTACH;FMTTYPE=image/jpeg:https://laughlinranch.com/wp-content/uploads/2024/07/Taco-Tuesday-At-Laughlin-Ranch-e1721980789282.jpg
END:VEVENT
BEGIN:VEVENT
DTSTART;TZID=America/Phoenix:20240819T173000
DTEND;TZID=America/Phoenix:20240819T173000
DTSTAMP:20260425T141200
CREATED:20240726T091554Z
LAST-MODIFIED:20240802T050138Z
UID:15000939-1724088600-1724088600@laughlinranch.com
SUMMARY:Healthy Cooking Class
DESCRIPTION:Join Health Coach Cameron\, from Life Changing Dinners for a night of delicious & healthy food! All recipes are quick and easily repeated at home in your own kitchen! Come hungry! You’ll not only leave with a full tummy\, but a full mind with lots of health and nutrition information to help you reach your health and wellness goals! \nThis month’s menu includes: \n\nEasy Mixed Veggie Side\nCoach Cam’s “Meaty Rice” One Pot Meal\nSpicy Cabbage Peach Salad\n“Rooty Booty” Delicious Side\nStrawberry Coconut Mousse\n\nEvery month we raffle off some great gifts at the end of class…And\, we want to GROW this class! Our goal is to have 25 people by August…Please invite a friend to join you for extra raffle tickets! \nRegister here or scan the QR code!
URL:https://laughlinranch.com/event/healthy-cooking-class-august/
LOCATION:Laughlin Ranch Golf Club\, 1360 William Hardy Dr\, Bullhead City\, AZ\, 86429\, United States
ATTACH;FMTTYPE=image/png:https://laughlinranch.com/wp-content/uploads/2024/07/Healthy-Cooking-Class-August.png
END:VEVENT
BEGIN:VEVENT
DTSTART;TZID=America/Phoenix:20240816T180000
DTEND;TZID=America/Phoenix:20240816T200000
DTSTAMP:20260425T141200
CREATED:20240726T083538Z
LAST-MODIFIED:20240813T082338Z
UID:15000932-1723831200-1723838400@laughlinranch.com
SUMMARY:Pool Party
DESCRIPTION:This event has been cancelled. Please check our other events this month!
URL:https://laughlinranch.com/event/pool-party-august-16/
LOCATION:Laughlin Ranch Golf Club\, 1360 William Hardy Dr\, Bullhead City\, AZ\, 86429\, United States
ATTACH;FMTTYPE=image/jpeg:https://laughlinranch.com/wp-content/uploads/2024/07/Pool-Party-August-16.jpg
END:VEVENT
BEGIN:VEVENT
DTSTART;TZID=America/Phoenix:20240807T190000
DTEND;TZID=America/Phoenix:20240807T210000
DTSTAMP:20260425T141200
CREATED:20240726T081627Z
LAST-MODIFIED:20240823T131156Z
UID:15000930-1723057200-1723064400@laughlinranch.com
SUMMARY:Whiskey & Cigar Night
DESCRIPTION:
URL:https://laughlinranch.com/event/whiskey-cigar-night-august-7/
LOCATION:Laughlin Ranch Golf Club\, 1360 William Hardy Dr\, Bullhead City\, AZ\, 86429\, United States
ATTACH;FMTTYPE=image/png:https://laughlinranch.com/wp-content/uploads/2024/04/Whiskey-Cigar.png
END:VEVENT
BEGIN:VEVENT
DTSTART;TZID=America/Phoenix:20240807T180000
DTEND;TZID=America/Phoenix:20240807T200000
DTSTAMP:20260425T141200
CREATED:20240726T092531Z
LAST-MODIFIED:20240823T131214Z
UID:15000940-1723053600-1723060800@laughlinranch.com
SUMMARY:Pool Party
DESCRIPTION:Come join us for a pool party at Laughlin Ranch Golf Club on August 7\, 2024 from 6PM-8PM
URL:https://laughlinranch.com/event/pool-party-august-7/
LOCATION:Laughlin Ranch Golf Club\, 1360 William Hardy Dr\, Bullhead City\, AZ\, 86429\, United States
ATTACH;FMTTYPE=image/jpeg:https://laughlinranch.com/wp-content/uploads/2024/07/Pool-Party-at-Laughlin-Ranch.jpg
END:VEVENT
BEGIN:VEVENT
DTSTART;TZID=America/Phoenix:20240806T130000
DTEND;TZID=America/Phoenix:20240806T190000
DTSTAMP:20260425T141200
CREATED:20240726T080050Z
LAST-MODIFIED:20240823T131225Z
UID:15000928-1722949200-1722970800@laughlinranch.com
SUMMARY:Taco Tuesday
DESCRIPTION:
URL:https://laughlinranch.com/event/taco-tuesday-august-6/
LOCATION:Laughlin Ranch Golf Club\, 1360 William Hardy Dr\, Bullhead City\, AZ\, 86429\, United States
ATTACH;FMTTYPE=image/jpeg:https://laughlinranch.com/wp-content/uploads/2024/07/Taco-Tuesday-At-Laughlin-Ranch-e1721980789282.jpg
END:VEVENT
BEGIN:VEVENT
DTSTART;TZID=America/Phoenix:20240803T090000
DTEND;TZID=America/Phoenix:20240803T100000
DTSTAMP:20260425T141200
CREATED:20240726T090948Z
LAST-MODIFIED:20240726T090948Z
UID:15000938-1722675600-1722679200@laughlinranch.com
SUMMARY:Spin Class At The Fitness Center
DESCRIPTION:More details coming soon! \nJoin us at Laughlin Ranch Golf Club for a fun spin class from 9AM-10AM on August 2 & 3\, 2024.
URL:https://laughlinranch.com/event/spin-class-august/2024-08-03/
LOCATION:Laughlin Ranch Golf Club\, 1360 William Hardy Dr\, Bullhead City\, AZ\, 86429\, United States
ATTACH;FMTTYPE=image/jpeg:https://laughlinranch.com/wp-content/uploads/2024/07/Spin-Class-at-Laughlin-Ranch-e1721984700230.jpg
END:VEVENT
BEGIN:VEVENT
DTSTART;TZID=America/Phoenix:20240803T080000
DTEND;TZID=America/Phoenix:20240803T090000
DTSTAMP:20260425T141200
CREATED:20240726T090059Z
LAST-MODIFIED:20240726T090059Z
UID:15000934-1722672000-1722675600@laughlinranch.com
SUMMARY:Yoga Class At The Fitness Center
DESCRIPTION:More details coming soon! \nJoin us at Laughlin Ranch Golf Club for a fun yoga class from 8AM-9AM on August 2 & 3\, 2024.
URL:https://laughlinranch.com/event/yoga-class-august/2024-08-03/
LOCATION:Laughlin Ranch Golf Club\, 1360 William Hardy Dr\, Bullhead City\, AZ\, 86429\, United States
ATTACH;FMTTYPE=image/jpeg:https://laughlinranch.com/wp-content/uploads/2024/07/Yoga-Class-At-Laughlin-Ranch-e1721984179962.jpg
END:VEVENT
END:VCALENDAR