BEGIN:VCALENDAR
VERSION:2.0
PRODID:-//Laughlin Ranch Golf Club - ECPv6.15.20//NONSGML v1.0//EN
CALSCALE:GREGORIAN
METHOD:PUBLISH
X-ORIGINAL-URL:https://laughlinranch.com
X-WR-CALDESC:Events for Laughlin Ranch Golf Club
REFRESH-INTERVAL;VALUE=DURATION:PT1H
X-Robots-Tag:noindex
X-PUBLISHED-TTL:PT1H
BEGIN:VTIMEZONE
TZID:America/Phoenix
BEGIN:STANDARD
TZOFFSETFROM:-0700
TZOFFSETTO:-0700
TZNAME:MST
DTSTART:20220101T000000
END:STANDARD
END:VTIMEZONE
BEGIN:VEVENT
DTSTART;TZID=America/Phoenix:20240816T180000
DTEND;TZID=America/Phoenix:20240816T200000
DTSTAMP:20260425T202613
CREATED:20240726T083538Z
LAST-MODIFIED:20240813T082338Z
UID:15000932-1723831200-1723838400@laughlinranch.com
SUMMARY:Pool Party
DESCRIPTION:This event has been cancelled. Please check our other events this month!
URL:https://laughlinranch.com/event/pool-party-august-16/
LOCATION:Laughlin Ranch Golf Club\, 1360 William Hardy Dr\, Bullhead City\, AZ\, 86429\, United States
ATTACH;FMTTYPE=image/jpeg:https://laughlinranch.com/wp-content/uploads/2024/07/Pool-Party-August-16.jpg
END:VEVENT
BEGIN:VEVENT
DTSTART;TZID=America/Phoenix:20240807T190000
DTEND;TZID=America/Phoenix:20240807T210000
DTSTAMP:20260425T202613
CREATED:20240726T081627Z
LAST-MODIFIED:20240823T131156Z
UID:15000930-1723057200-1723064400@laughlinranch.com
SUMMARY:Whiskey & Cigar Night
DESCRIPTION:
URL:https://laughlinranch.com/event/whiskey-cigar-night-august-7/
LOCATION:Laughlin Ranch Golf Club\, 1360 William Hardy Dr\, Bullhead City\, AZ\, 86429\, United States
ATTACH;FMTTYPE=image/png:https://laughlinranch.com/wp-content/uploads/2024/04/Whiskey-Cigar.png
END:VEVENT
BEGIN:VEVENT
DTSTART;TZID=America/Phoenix:20240807T180000
DTEND;TZID=America/Phoenix:20240807T200000
DTSTAMP:20260425T202613
CREATED:20240726T092531Z
LAST-MODIFIED:20240823T131214Z
UID:15000940-1723053600-1723060800@laughlinranch.com
SUMMARY:Pool Party
DESCRIPTION:Come join us for a pool party at Laughlin Ranch Golf Club on August 7\, 2024 from 6PM-8PM
URL:https://laughlinranch.com/event/pool-party-august-7/
LOCATION:Laughlin Ranch Golf Club\, 1360 William Hardy Dr\, Bullhead City\, AZ\, 86429\, United States
ATTACH;FMTTYPE=image/jpeg:https://laughlinranch.com/wp-content/uploads/2024/07/Pool-Party-at-Laughlin-Ranch.jpg
END:VEVENT
BEGIN:VEVENT
DTSTART;TZID=America/Phoenix:20240806T130000
DTEND;TZID=America/Phoenix:20240806T190000
DTSTAMP:20260425T202613
CREATED:20240726T080050Z
LAST-MODIFIED:20240823T131225Z
UID:15000928-1722949200-1722970800@laughlinranch.com
SUMMARY:Taco Tuesday
DESCRIPTION:
URL:https://laughlinranch.com/event/taco-tuesday-august-6/
LOCATION:Laughlin Ranch Golf Club\, 1360 William Hardy Dr\, Bullhead City\, AZ\, 86429\, United States
ATTACH;FMTTYPE=image/jpeg:https://laughlinranch.com/wp-content/uploads/2024/07/Taco-Tuesday-At-Laughlin-Ranch-e1721980789282.jpg
END:VEVENT
BEGIN:VEVENT
DTSTART;TZID=America/Phoenix:20240803T090000
DTEND;TZID=America/Phoenix:20240803T100000
DTSTAMP:20260425T202613
CREATED:20240726T090948Z
LAST-MODIFIED:20240726T090948Z
UID:15000938-1722675600-1722679200@laughlinranch.com
SUMMARY:Spin Class At The Fitness Center
DESCRIPTION:More details coming soon! \nJoin us at Laughlin Ranch Golf Club for a fun spin class from 9AM-10AM on August 2 & 3\, 2024.
URL:https://laughlinranch.com/event/spin-class-august/2024-08-03/
LOCATION:Laughlin Ranch Golf Club\, 1360 William Hardy Dr\, Bullhead City\, AZ\, 86429\, United States
ATTACH;FMTTYPE=image/jpeg:https://laughlinranch.com/wp-content/uploads/2024/07/Spin-Class-at-Laughlin-Ranch-e1721984700230.jpg
END:VEVENT
BEGIN:VEVENT
DTSTART;TZID=America/Phoenix:20240803T080000
DTEND;TZID=America/Phoenix:20240803T090000
DTSTAMP:20260425T202613
CREATED:20240726T090059Z
LAST-MODIFIED:20240726T090059Z
UID:15000934-1722672000-1722675600@laughlinranch.com
SUMMARY:Yoga Class At The Fitness Center
DESCRIPTION:More details coming soon! \nJoin us at Laughlin Ranch Golf Club for a fun yoga class from 8AM-9AM on August 2 & 3\, 2024.
URL:https://laughlinranch.com/event/yoga-class-august/2024-08-03/
LOCATION:Laughlin Ranch Golf Club\, 1360 William Hardy Dr\, Bullhead City\, AZ\, 86429\, United States
ATTACH;FMTTYPE=image/jpeg:https://laughlinranch.com/wp-content/uploads/2024/07/Yoga-Class-At-Laughlin-Ranch-e1721984179962.jpg
END:VEVENT
BEGIN:VEVENT
DTSTART;TZID=America/Phoenix:20240730T180000
DTEND;TZID=America/Phoenix:20240730T180000
DTSTAMP:20260425T202613
CREATED:20240626T085636Z
LAST-MODIFIED:20240627T071001Z
UID:14000968-1722362400-1722362400@laughlinranch.com
SUMMARY:Wine & Paint Night
DESCRIPTION:
URL:https://laughlinranch.com/event/wine-paint-night-july/
LOCATION:Laughlin Ranch Golf Club\, 1360 William Hardy Dr\, Bullhead City\, AZ\, 86429\, United States
ATTACH;FMTTYPE=image/png:https://laughlinranch.com/wp-content/uploads/2024/05/Wine-Paint-Night.png
ORGANIZER;CN="Laughlin Ranch Golf Club":MAILTO:info@lauglinranch.com
END:VEVENT
BEGIN:VEVENT
DTSTART;TZID=America/Phoenix:20240724T190000
DTEND;TZID=America/Phoenix:20240724T210000
DTSTAMP:20260425T202613
CREATED:20240626T084340Z
LAST-MODIFIED:20240627T072456Z
UID:14000967-1721847600-1721854800@laughlinranch.com
SUMMARY:Whiskey & Cigar Night
DESCRIPTION:
URL:https://laughlinranch.com/event/whiskey-cigar-night-july/2024-07-24/
LOCATION:Laughlin Ranch Golf Club\, 1360 William Hardy Dr\, Bullhead City\, AZ\, 86429\, United States
ATTACH;FMTTYPE=image/png:https://laughlinranch.com/wp-content/uploads/2024/04/Whiskey-Cigar.png
END:VEVENT
BEGIN:VEVENT
DTSTART;TZID=America/Phoenix:20240723T130000
DTEND;TZID=America/Phoenix:20240723T190000
DTSTAMP:20260425T202613
CREATED:20240701T135533Z
LAST-MODIFIED:20240701T135533Z
UID:15000923-1721739600-1721761200@laughlinranch.com
SUMMARY:Taco Tuesday
DESCRIPTION:
URL:https://laughlinranch.com/event/taco-tuesday-july-2024/2024-07-23/
LOCATION:Laughlin Ranch Golf Club\, 1360 William Hardy Dr\, Bullhead City\, AZ\, 86429\, United States
ATTACH;FMTTYPE=image/png:https://laughlinranch.com/wp-content/uploads/2024/04/Taco-Tuesday.png
END:VEVENT
BEGIN:VEVENT
DTSTART;TZID=America/Phoenix:20240715T173000
DTEND;TZID=America/Phoenix:20240715T173000
DTSTAMP:20260425T202613
CREATED:20240626T104915Z
LAST-MODIFIED:20240703T063025Z
UID:14000970-1721064600-1721064600@laughlinranch.com
SUMMARY:Healthy Cooking Class
DESCRIPTION:Join Health Coach Cameron\, from Life Changing Dinners for a night of delicious & healthy food this July 15! All recipes are quick and easily repeated at home in your own kitchen! This month you’ll learn some lighter\, healthier takes on summer BBQ classics. Come hungry! You’ll not only leave with a full tummy\, but a full mind with lots of health and nutrition information to help you reach your health and wellness goals! Scan the QR code or click this link to join! \nThis month’s menu includes: \n\nBBQ Pulled Chicken\nWarm Cilantro Lime Sautéed Corn\nHealthy Cole Slaw\nPeach Berry Cobbler\n\nWe will have a raffle at the end of the night for awesome gifts… Bring a friend for extra raffle tickets for the drawing!
URL:https://laughlinranch.com/event/healthy-cooking-class-july/
LOCATION:Laughlin Ranch Golf Club\, 1360 William Hardy Dr\, Bullhead City\, AZ\, 86429\, United States
ATTACH;FMTTYPE=image/jpeg:https://laughlinranch.com/wp-content/uploads/2024/06/Healthy-Cooking-Class-July-2024.jpg
END:VEVENT
BEGIN:VEVENT
DTSTART;TZID=America/Phoenix:20240712T170000
DTEND;TZID=America/Phoenix:20240712T200000
DTSTAMP:20260425T202613
CREATED:20240626T102202Z
LAST-MODIFIED:20240627T071252Z
UID:14000969-1720803600-1720814400@laughlinranch.com
SUMMARY:Pool Party
DESCRIPTION:Come join us at Laughlin Ranch Golf Club for a splashing good time from 5pm – 8pm on July 12\, 2024! \nGet ready for an event filled with fun under the sun\, poolside vibes\, and great company. Whether you’re looking to relax by the pool or make a splash\, this event is perfect for everyone. \nDon’t forget to bring your favorite swimwear\, sunscreen\, and positive energy! Our pool party will feature music\, food for purchase & refreshing drinks to keep you cool. So grab your friends and family for a day of laughter and memories at Laughlin Ranch. \n$5.00 entry fee which includes a complimentary drink ticket! 12 & under are free. \nRegister and grab your spot online now & pay cash at the door! \nMark your calendars and get ready to dive into the fun at the Laughlin Ranch Pool Party!
URL:https://laughlinranch.com/event/pool-party-july/
LOCATION:Laughlin Ranch Golf Club\, 1360 William Hardy Dr\, Bullhead City\, AZ\, 86429\, United States
ATTACH;FMTTYPE=image/jpeg:https://laughlinranch.com/wp-content/uploads/2024/06/Pool-Party-July-Laughlin-Ranch.jpg
ORGANIZER;CN="Laughlin Ranch Golf Club":MAILTO:info@lauglinranch.com
END:VEVENT
BEGIN:VEVENT
DTSTART;TZID=America/Phoenix:20240703T180000
DTEND;TZID=America/Phoenix:20240703T180000
DTSTAMP:20260425T202613
CREATED:20240626T105907Z
LAST-MODIFIED:20240628T143325Z
UID:14000972-1720029600-1720029600@laughlinranch.com
SUMMARY:Spin Class At The Fitness Center
DESCRIPTION:Come join us for some high-energy spin classes at our location on 1360 William Hardy Dr! Get ready to pedal your way to fitness while jamming out to some awesome tunes. Our experienced instructor\, Felicia Torres\, will guide you through an intense workout that will leave you feeling energized and accomplished. Whether you’re a beginner or a seasoned spinner\, our classes are suitable for all levels. Don’t miss out on this opportunity to sweat it out and have a blast with us! \nBuy tickets by scanning the QR code or visiting the link here.
URL:https://laughlinranch.com/event/spin-class-july/
LOCATION:Laughlin Ranch Golf Club\, 1360 William Hardy Dr\, Bullhead City\, AZ\, 86429\, United States
ATTACH;FMTTYPE=image/jpeg:https://laughlinranch.com/wp-content/uploads/2024/06/Yoga-and-Spin-Class-At-Fitness-Center--e1719404604795.jpg
ORGANIZER;CN="Laughlin Ranch Golf Club":MAILTO:info@lauglinranch.com
END:VEVENT
BEGIN:VEVENT
DTSTART;TZID=America/Phoenix:20240703T170000
DTEND;TZID=America/Phoenix:20240703T170000
DTSTAMP:20260425T202613
CREATED:20240626T105715Z
LAST-MODIFIED:20240628T143246Z
UID:14000971-1720026000-1720026000@laughlinranch.com
SUMMARY:Yoga Class At The Fitness Center
DESCRIPTION:Come join us for a relaxing and rejuvenating yoga class! Whether you’re a beginner or a seasoned yogi\, this class is open to all levels. Get ready to stretch\, breathe\, and find your inner zen with expert instructor Felicia Torres. Mats will be provided\, just bring yourself and an open mind. You are more then welcome to bring your own mat. \nDate: Wed Jul 03 2024 \nTime: 5:00 PM \nLocation: 1360 William Hardy Dr. \nRegister by scanning the QR code or visiting the link here.
URL:https://laughlinranch.com/event/yoga-class-july/
LOCATION:Laughlin Ranch Golf Club\, 1360 William Hardy Dr\, Bullhead City\, AZ\, 86429\, United States
ORGANIZER;CN="Laughlin Ranch Golf Club":MAILTO:info@lauglinranch.com
END:VEVENT
BEGIN:VEVENT
DTSTART;TZID=America/Phoenix:20240626T190000
DTEND;TZID=America/Phoenix:20240626T210000
DTSTAMP:20260425T202613
CREATED:20240624T151318Z
LAST-MODIFIED:20240626T143417Z
UID:14000964-1719428400-1719435600@laughlinranch.com
SUMMARY:Whiskey & Cigar Night
DESCRIPTION:
URL:https://laughlinranch.com/event/whiskey-cigar-night-2/2024-06-26/
LOCATION:Laughlin Ranch Golf Club\, 1360 William Hardy Dr\, Bullhead City\, AZ\, 86429\, United States
ATTACH;FMTTYPE=image/png:https://laughlinranch.com/wp-content/uploads/2024/04/Whiskey-Cigar.png
END:VEVENT
BEGIN:VEVENT
DTSTART;TZID=America/Phoenix:20240625T180000
DTEND;TZID=America/Phoenix:20240625T180000
DTSTAMP:20260425T202613
CREATED:20240502T144536Z
LAST-MODIFIED:20240502T144536Z
UID:15000572-1719338400-1719338400@laughlinranch.com
SUMMARY:Wine & Paint Night
DESCRIPTION:
URL:https://laughlinranch.com/event/wine-paint-night/2024-06-25/
LOCATION:Laughlin Ranch Golf Club\, 1360 William Hardy Dr\, Bullhead City\, AZ\, 86429\, United States
ATTACH;FMTTYPE=image/png:https://laughlinranch.com/wp-content/uploads/2024/05/Wine-Paint-Night.png
END:VEVENT
BEGIN:VEVENT
DTSTART;TZID=America/Phoenix:20240617T173000
DTEND;TZID=America/Phoenix:20240617T173000
DTSTAMP:20260425T202613
CREATED:20240624T150612Z
LAST-MODIFIED:20240626T143342Z
UID:14000961-1718645400-1718645400@laughlinranch.com
SUMMARY:Healthy Cooking Class
DESCRIPTION:Join Health Coach Cameron\, from Life Changing Dinners for a night of delicious & healthy food! All recipes are quick and easily repeated at home in your own kitchen! Each recipe is designed to provide your body with essential nutrients to keep you performing at your best! \nThis month’s menu includes: \n\nGreen Curry Zoodles\nTurmeric Yellow Curry Chicken Soup\nABC Detox Salad\nPineapple Cilantro Salad\nCoconut Cream Chocolate Mousse\n\nWe will have a raffle at the end of the night for awesome gifts… Bring a friend for extra raffle tickets for the drawing!
URL:https://laughlinranch.com/event/healthy-cooking-class-june-2024/
LOCATION:Laughlin Ranch Golf Club\, 1360 William Hardy Dr\, Bullhead City\, AZ\, 86429\, United States
ATTACH;FMTTYPE=image/jpeg:https://laughlinranch.com/wp-content/uploads/2024/06/Healthy-Cooking-Class-June-17-Updated.jpg
END:VEVENT
BEGIN:VEVENT
DTSTART;TZID=America/Phoenix:20240616T090000
DTEND;TZID=America/Phoenix:20240616T150000
DTSTAMP:20260425T202613
CREATED:20240624T150925Z
LAST-MODIFIED:20241028T150441Z
UID:14000962-1718528400-1718550000@laughlinranch.com
SUMMARY:Father's Day Brunch
DESCRIPTION:
URL:https://laughlinranch.com/event/fathers-day-brunch-2/
LOCATION:Laughlin Ranch Golf Club\, 1360 William Hardy Dr\, Bullhead City\, AZ\, 86429\, United States
ATTACH;FMTTYPE=image/jpeg:https://laughlinranch.com/wp-content/uploads/2024/06/FathersDay.jpg
ORGANIZER;CN="Laughlin Ranch Golf Club":MAILTO:info@lauglinranch.com
END:VEVENT
BEGIN:VEVENT
DTSTART;TZID=America/Phoenix:20240613T173000
DTEND;TZID=America/Phoenix:20240613T193000
DTSTAMP:20260425T202613
CREATED:20240606T080859Z
LAST-MODIFIED:20240618T065144Z
UID:15000574-1718299800-1718307000@laughlinranch.com
SUMMARY:Paws N Pinot - Fundraiser for Positive Paws
DESCRIPTION:Postive Paws BHC – Sponsored by US Southwest is hosting a fundraiser event and needs your support to make a difference. Come be a part of something special! \nFood & Drinks available for purchase.
URL:https://laughlinranch.com/event/paws-n-pinot-fundraiser/
LOCATION:Laughlin Ranch Golf Club\, 1360 William Hardy Dr\, Bullhead City\, AZ\, 86429\, United States
ATTACH;FMTTYPE=image/jpeg:https://laughlinranch.com/wp-content/uploads/2024/06/PawsNPinot-Fundraiser-e1717660982960.jpg
END:VEVENT
BEGIN:VEVENT
DTSTART;TZID=America/Phoenix:20240604T130000
DTEND;TZID=America/Phoenix:20240604T190000
DTSTAMP:20260425T202613
CREATED:20240604T155618Z
LAST-MODIFIED:20240624T083806Z
UID:15000555-1717506000-1717527600@laughlinranch.com
SUMMARY:Taco Tuesday
DESCRIPTION:
URL:https://laughlinranch.com/event/taco-tuesday-2024-06-04/
LOCATION:Laughlin Ranch Golf Club\, 1360 William Hardy Dr\, Bullhead City\, AZ\, 86429\, United States
ATTACH;FMTTYPE=image/png:https://laughlinranch.com/wp-content/uploads/2024/04/Taco-Tuesday.png
END:VEVENT
BEGIN:VEVENT
DTSTART;TZID=America/Phoenix:20240520T173000
DTEND;TZID=America/Phoenix:20240520T173000
DTSTAMP:20260425T202613
CREATED:20240502T150415Z
LAST-MODIFIED:20240517T064300Z
UID:13000905-1716226200-1716226200@laughlinranch.com
SUMMARY:Life Changing Dinner Class
DESCRIPTION:
URL:https://laughlinranch.com/event/life-changing-dinner-class/
LOCATION:Laughlin Ranch Golf Club\, 1360 William Hardy Dr\, Bullhead City\, AZ\, 86429\, United States
ATTACH;FMTTYPE=image/jpeg:https://laughlinranch.com/wp-content/uploads/2024/05/Healthy-Cooking-Class-May-20-2024-e1715928168470.jpg
END:VEVENT
BEGIN:VEVENT
DTSTART;TZID=America/Phoenix:20240512T090000
DTEND;TZID=America/Phoenix:20240512T130000
DTSTAMP:20260425T202613
CREATED:20240502T141733Z
LAST-MODIFIED:20240502T142110Z
UID:13000903-1715504400-1715518800@laughlinranch.com
SUMMARY:Mother's Day Brunch
DESCRIPTION:
URL:https://laughlinranch.com/event/mothers-day-brunch/
LOCATION:Laughlin Ranch Golf Club\, 1360 William Hardy Dr\, Bullhead City\, AZ\, 86429\, United States
ATTACH;FMTTYPE=image/png:https://laughlinranch.com/wp-content/uploads/2024/05/Mothers-Day-Brunch.png
END:VEVENT
BEGIN:VEVENT
DTSTART;TZID=America/Phoenix:20231104T193000
DTEND;TZID=America/Phoenix:20231104T220000
DTSTAMP:20260425T202613
CREATED:20230928T202857Z
LAST-MODIFIED:20240424T170618Z
UID:10000001-1699126200-1699135200@laughlinranch.com
SUMMARY:Mick Adams & The Stones
DESCRIPTION:
URL:https://laughlinranch.com/event/mick-adams-the-stones/
LOCATION:Laughlin Ranch Golf Club\, 1360 William Hardy Dr\, Bullhead City\, AZ\, 86429\, United States
CATEGORIES:Concerts
ATTACH;FMTTYPE=image/jpeg:https://laughlinranch.com/wp-content/uploads/2023/09/Ladies-and-Gentlemen-Mick-Adams-and-The-Stones-hi-res.jpg
ORGANIZER;CN="Laughlin Ranch Golf Club":MAILTO:info@lauglinranch.com
END:VEVENT
END:VCALENDAR